BEGIN:VCALENDAR
VERSION:2.0
PRODID:-//Fondazione ForDance - ECPv6.9.0//NONSGML v1.0//EN
CALSCALE:GREGORIAN
METHOD:PUBLISH
X-ORIGINAL-URL:https://fondazionefordance.it
X-WR-CALDESC:Eventi per Fondazione ForDance
REFRESH-INTERVAL;VALUE=DURATION:PT1H
X-Robots-Tag:noindex
X-PUBLISHED-TTL:PT1H
BEGIN:VTIMEZONE
TZID:Europe/Amsterdam
BEGIN:DAYLIGHT
TZOFFSETFROM:+0100
TZOFFSETTO:+0200
TZNAME:CEST
DTSTART:20230326T010000
END:DAYLIGHT
BEGIN:STANDARD
TZOFFSETFROM:+0200
TZOFFSETTO:+0100
TZNAME:CET
DTSTART:20231029T010000
END:STANDARD
END:VTIMEZONE
BEGIN:VEVENT
DTSTART;VALUE=DATE:20230314
DTEND;VALUE=DATE:20230409
DTSTAMP:20260424T072141
CREATED:20230322T073436Z
LAST-MODIFIED:20231108T102146Z
UID:150-1678752000-1680998399@fondazionefordance.it
SUMMARY:I Due Foscari
DESCRIPTION:Dal 14 marzo fino all’8 aprile 2023 i ballerini del nostro corpo di ballo sono stati  impegnati come danzatori e mimi nell’opera lirica di Giuseppe Verdi  “I Due Foscari”\nLe recite si sono tenute al Teatro Opera Carlo Felice di Genova.
URL:https://fondazionefordance.it/event/i-due-foscari/
LOCATION:Teatro Carlo Felice\, Galleria Cardinal Siri\, Passo Eugenio Montale\, 4\, Genova\, GE\, 16121\, Italia
CATEGORIES:Spettacoli
ATTACH;FMTTYPE=image/jpeg:https://fondazionefordance.it/source_/wp-content/uploads/2023/10/Foscari-1_compressed.jpg
END:VEVENT
END:VCALENDAR