BEGIN:VCALENDAR
VERSION:2.0
PRODID:-//Fondazione ForDance - ECPv6.9.0//NONSGML v1.0//EN
CALSCALE:GREGORIAN
METHOD:PUBLISH
X-WR-CALNAME:Fondazione ForDance
X-ORIGINAL-URL:https://fondazionefordance.it
X-WR-CALDESC:Eventi per Fondazione ForDance
REFRESH-INTERVAL;VALUE=DURATION:PT1H
X-Robots-Tag:noindex
X-PUBLISHED-TTL:PT1H
BEGIN:VTIMEZONE
TZID:UTC
BEGIN:STANDARD
TZOFFSETFROM:+0000
TZOFFSETTO:+0000
TZNAME:UTC
DTSTART:20230101T000000
END:STANDARD
END:VTIMEZONE
BEGIN:VEVENT
DTSTART;TZID=UTC:20230217T080000
DTEND;TZID=UTC:20230221T170000
DTSTAMP:20260424T110633
CREATED:20230304T111641Z
LAST-MODIFIED:20231108T101853Z
UID:137-1676620800-1676998800@fondazionefordance.it
SUMMARY:Tanzolymp
DESCRIPTION:Felici e soddisfatti al primo anno di esperienza come Fondazione Formazione Danza e Spettacolo abbiamo ottenuto un notevole successo e consenso ottenuto dai nostri ballerini alla 20esima edizione di Tanzolymp svoltasi a Berlino dal 17 al 21 Febbraio 2023. Una Medaglia d’oro nel sezione Moderno Passo a Due con una variazione struggente e coinvolgente ballati dai nostri solisti Nika Dubichinska e Vladimir Mozgovoi \, e una medaglia d’argento con il gruppo che ha danzato il balletto “Gayanè”
URL:https://fondazionefordance.it/event/tanzolymp-20esima-edizione/
LOCATION:GE
CATEGORIES:Spettacoli
ATTACH;FMTTYPE=image/jpeg:https://fondazionefordance.it/source_/wp-content/uploads/2023/03/Tanzolymp-2023.jpeg
END:VEVENT
END:VCALENDAR