BEGIN:VCALENDAR
VERSION:2.0
PRODID:-//Fondazione ForDance - ECPv6.9.0//NONSGML v1.0//EN
CALSCALE:GREGORIAN
METHOD:PUBLISH
X-ORIGINAL-URL:https://fondazionefordance.it
X-WR-CALDESC:Eventi per Fondazione ForDance
REFRESH-INTERVAL;VALUE=DURATION:PT1H
X-Robots-Tag:noindex
X-PUBLISHED-TTL:PT1H
BEGIN:VTIMEZONE
TZID:UTC
BEGIN:STANDARD
TZOFFSETFROM:+0000
TZOFFSETTO:+0000
TZNAME:UTC
DTSTART:20220101T000000
END:STANDARD
END:VTIMEZONE
BEGIN:VEVENT
DTSTART;TZID=UTC:20221201T100000
DTEND;TZID=UTC:20221210T150000
DTSTAMP:20260424T141356
CREATED:20221125T162540Z
LAST-MODIFIED:20231108T101534Z
UID:107-1669888800-1670684400@fondazionefordance.it
SUMMARY:Mio Primo Debussy
DESCRIPTION:Realizzato in collaborazione tra il Teatro Carlo Felice e la Fondazione Formazione Danza e Spettacolo\, questo balletto rientra in un progetto portato avanti dalla direzione del Teatro in collaborazione con la nostra fondazione per avvicinare i giovani e giovanissimo al Teatro.\nUn esplorazione del mondo dell’infanzia e del gioco attraverso due celebri composizioni di Debussy\nChildren’s Corner eseguito dalla pianista Valentina Massa e “La Boîte a Joujoux” balletto per bambini eseguito dal Balletto della Fondazione Formazione Danza e Spettacolo con la regia\, le scene scene\, i costumi e le luci curate da Irina Kashkova che ha anche realizzato la coreografia inedita del balletto\nGli spettacoli o le recite (36) si sono tenute  nell’Auditorium Eugenio Montale.
URL:https://fondazionefordance.it/event/la-boite-a-joujoux/
LOCATION:GE
CATEGORIES:Spettacoli
ATTACH;FMTTYPE=image/jpeg:https://fondazionefordance.it/source_/wp-content/uploads/2022/11/Debussy-6.jpeg
END:VEVENT
END:VCALENDAR