BEGIN:VCALENDAR
VERSION:2.0
PRODID:-//Fondazione ForDance - ECPv6.9.0//NONSGML v1.0//EN
CALSCALE:GREGORIAN
METHOD:PUBLISH
X-WR-CALNAME:Fondazione ForDance
X-ORIGINAL-URL:https://fondazionefordance.it
X-WR-CALDESC:Eventi per Fondazione ForDance
REFRESH-INTERVAL;VALUE=DURATION:PT1H
X-Robots-Tag:noindex
X-PUBLISHED-TTL:PT1H
BEGIN:VTIMEZONE
TZID:UTC
BEGIN:STANDARD
TZOFFSETFROM:+0000
TZOFFSETTO:+0000
TZNAME:UTC
DTSTART:20250101T000000
END:STANDARD
END:VTIMEZONE
BEGIN:VEVENT
DTSTART;VALUE=DATE:20250206
DTEND;VALUE=DATE:20250216
DTSTAMP:20260423T060038
CREATED:20250128T152636Z
LAST-MODIFIED:20250128T152636Z
UID:360-1738800000-1739663999@fondazionefordance.it
SUMMARY:“Andrea Chenier”
DESCRIPTION:Riparte con immensa soddisfazione la proficua collaborazione con il Teatro Carlo Felice. Il primo appuntamento di questa stagione è il balletto dell’Opera Lirica “Andrea Chenier” I nostri ballerini saranno protagonisti nel balletto del 1° atto dell’opera lirica “Andrea Chenier” che andrà in scena il 06/09/12/15 febbraio 2025.
URL:https://fondazionefordance.it/event/andrea-chenier/
LOCATION:Teatro Carlo Felice\, Galleria Cardinal Siri\, Passo Eugenio Montale\, 4\, Genova\, GE\, 16121\, Italia
CATEGORIES:Eventi,Spettacoli
ATTACH;FMTTYPE=image/jpeg:https://fondazionefordance.it/source_/wp-content/uploads/2025/01/Andrea-Chenier.jpeg
END:VEVENT
BEGIN:VEVENT
DTSTART;VALUE=DATE:20250307
DTEND;VALUE=DATE:20250314
DTSTAMP:20260423T060038
CREATED:20250317T151139Z
LAST-MODIFIED:20250317T151139Z
UID:371-1741305600-1741910399@fondazionefordance.it
SUMMARY:Falstaff
DESCRIPTION:Secondo appuntamento del la stagione lirica per i nostri ballerini impegnati nella commedia  lirica in tre atti di Giuseppe Verdi Falstaff che è andata in scena dal 7 al 13 marzo 2025. Un’altra esperienza fortemmente positiva per i nostri danzatori.
URL:https://fondazionefordance.it/event/falstaff/
LOCATION:Teatro Carlo Felice\, Galleria Cardinal Siri\, Passo Eugenio Montale\, 4\, Genova\, GE\, 16121\, Italia
CATEGORIES:Spettacoli
ATTACH;FMTTYPE=image/jpeg:https://fondazionefordance.it/source_/wp-content/uploads/2025/03/Falstaff_02.jpg
END:VEVENT
BEGIN:VEVENT
DTSTART;VALUE=DATE:20250406
DTEND;VALUE=DATE:20250417
DTSTAMP:20260423T060038
CREATED:20250317T151822Z
LAST-MODIFIED:20250317T151822Z
UID:375-1743897600-1744847999@fondazionefordance.it
SUMMARY:Die Liebe der Danae
DESCRIPTION:Continua proficuamente la collaborazione tra la nostra fondazione e il Teatro Carlo Felice. Un altro importante impegno aspetta i ballerini della nostra fondazione. 8 nostri giovani danzatori (4 coppie) saranno impegnati sul palcoscenico del Teatro Carlo Felice dal 6 al 16 aprile 2025.
URL:https://fondazionefordance.it/event/die-liebe-der-danae/
LOCATION:Teatro Carlo Felice\, Galleria Cardinal Siri\, Passo Eugenio Montale\, 4\, Genova\, GE\, 16121\, Italia
CATEGORIES:Eventi,Spettacoli
ATTACH;FMTTYPE=image/jpeg:https://fondazionefordance.it/source_/wp-content/uploads/2025/03/Die-Liebe-der-Danae-Opera-Carlo-Felice-24-25-a.jpg
END:VEVENT
BEGIN:VEVENT
DTSTART;VALUE=DATE:20251201
DTEND;VALUE=DATE:20251214
DTSTAMP:20260423T060038
CREATED:20251108T165001Z
LAST-MODIFIED:20251108T165001Z
UID:408-1764547200-1765670399@fondazionefordance.it
SUMMARY:“Il mio primo Debussy” nuova stagione
DESCRIPTION:Dal 1 Dicembre 2025 nuova stagione de “Il mio primo Debussy” con recite fino al 13 dicembre.  \nDue recite mattutine per un totale di 13 recite presso l’Auditorio Eugenio Montale.  \nTeatro Carlo Felice Genova.
URL:https://fondazionefordance.it/event/il-mio-primo-debussy-nuova-stagione/
LOCATION:Teatro Carlo Felice\, Galleria Cardinal Siri\, Passo Eugenio Montale\, 4\, Genova\, GE\, 16121\, Italia
CATEGORIES:Eventi,Spettacoli
ATTACH;FMTTYPE=image/jpeg:https://fondazionefordance.it/source_/wp-content/uploads/2022/11/Debussy-5.jpeg
END:VEVENT
END:VCALENDAR